BEGIN:VCALENDAR
VERSION:2.0
PRODID:-//hacksw/handcal//NONSGML v1.0//EN
CALSCALE:GREGORIAN
BEGIN:VEVENT
ORGANIZER;CN=SI-BONE, Inc.:MAILTO:no-reply@mail.gcs-web.com
DTEND:
UID:df87306a-a90b-4485-ae5c-a875068358f0
DTSTAMP:1776870650
LOCATION:https://edge.media-server.com/mmc/p/vde24u4q
DESCRIPTION:Event Details https://investor.si-bone.com/events/event-details/si-bone-report-operating-results-first-quarter-2026\n\nWebcast: https://edge.media-server.com/mmc/p/vde24u4q
URL;VALUE=URI:https://edge.media-server.com/mmc/p/vde24u4q
SUMMARY:SI-BONE, Inc. - SI-BONE to Report Operating Results for the First Quarter 2026
DTSTART:20260511T203000Z
END:VEVENT
END:VCALENDAR